Workbook
Name Citas: OFFSET([1]Tareas!$B$6,,,COUNTA([1]Tareas!$B$6:$B$9999),3)
Name Comprobantes: '[2]Tabla de Comprobantes'!$A$3:$A$65
Name PC: '[2]Tabla de Comprobantes'!$E$3:$E$14

Sheet - AYUDA -
B4: Ayuda

Sheet Turnos
B6: Ingresa en la tabla los datos del cliente que hace la reserva
B7: CLIENTE | C7: TELÉFONO | D7: FECHA | E7: COMIENZA | F7: TERMINA | G7: N° DE CANCHA | H7: NOTAS
B8: Leo Messi | C8: 9555-3211 | D8: 43831 | E8: 0.54166667 | F8: 0.58333333 | G8: 1 | H8: Viene con el perro
B9: C. Ronaldo | C9: 822-1911 | D9: 43831 | E9: 0.5625 | F9: 0.60416667 | G9: 2
B10: A. Griezmann | C10: 990-2211 | D10: 43831 | E10: 0.75 | F10: 0.79166667 | G10: 3
B11: K. Mbappe | C11: 281-222 | D11: 43832 | E11: 0.77083333 | F11: 0.83333333 | G11: 1
B12: P. Dybala | C12: 8922-2211 | D12: 43831 | E12: 0.66666667 | F12: 0.70833333 | G12: 5

Sheet Disponibilidad
B5: FECHA | C5: 43831 | D5: Especifique la fecha que quiera ver
B6: HORA | C6: 0.33333333 | D6: Especifique la hora hh:mm am/pm
B7: MINUTOS | C7: 60 | D7: Especifique la fracción en minutos que quiera visualizar la tabla de disponibilidad
F9: TABLA DE DISPONIBILIDAD
B10: Liste los establecimientos que tiene
B11: TIPO DE MESA | C11: CAPACIDAD | D11: N° DE CANCHA | F11: =C6+TIME(0,0,0) -> 0.33333333 | G11: =F11+TIME(0,$C$7,0) -> 0.375 | H11: =G11+TIME(0,$C$7,0) -> 0.41666667 | I11: =H11+TIME(0,$C$7,0) -> 0.45833333 | J11: =I11+TIME(0,$C$7,0) -> 0.5 | K11: =J11+TIME(0,$C$7,0) -> 0.54166667 | L11: =K11+TIME(0,$C$7,0) -> 0.58333333 | M11: =L11+TIME(0,$C$7,0) -> 0.625 | N11: =M11+TIME(0,$C$7,0) -> 0.66666667 | ... U11: =T11+TIME(0,$C$7,0) -> 0.95833333
B12: Cancha L1 | C12: 5 | D12: 1 | F12: =1-SUMPRODUCT((Reservas[COMIENZA]<=F$11)*(Reservas[FECHA]=Disponibilidad!$C$5)*(Reservas[TERMINA]>=Disponibilidad!F$11)*(Reservas[N° DE CANCHA]=Disponibilidad!$D12)) -> 1 | G12: =1-SUMPRODUCT((Reservas[COMIENZA]<=G$11)*(Reservas[FECHA]=Disponibilidad!$C$5)*(Reservas[TERMINA]>=Disponibilidad!G$11)*(Reservas[N° DE CANCHA]=Disponibilidad!$D12)) -> 1 | H12: =1-SUMPRODUCT((Reservas[COMIENZA]<=H$11)*(Reservas[FECHA]=Disponibilidad!$C$5)*(Reservas[TERMINA]>=Disponibilidad!H$11)*(Reservas[N° DE CANCHA]=Disponibilidad!$D12)) -> 1 | I12: =1-SUMPRODUCT((Reservas[COMIENZA]<=I$11)*(Reservas[FECHA]=Disponibilidad!$C$5)*(Reservas[TERMINA]>=Disponibilidad!I$11)*(Reservas[N° DE CANCHA]=Disponibilidad!$D12)) -> 1 | J12: =1-SUMPRODUCT((Reservas[COMIENZA]<=J$11)*(Reservas[FECHA]=Disponibilidad!$C$5)*(Reservas[TERMINA]>=Disponibilidad!J$11)*(Reservas[N° DE CANCHA]=Disponibilidad!$D12)) -> 1 | K12: =1-SUMPRODUCT((Reservas[COMIENZA]<=K$11)*(Reservas[FECHA]=Disponibilidad!$C$5)*(Reservas[TERMINA]>=Disponibilidad!K$11)*(Reservas[N° DE CANCHA]=Disponibilidad!$D12)) -> 0 | L12: =1-SUMPRODUCT((Reservas[COMIENZA]<=L$11)*(Reservas[FECHA]=Disponibilidad!$C$5)*(Reservas[TERMINA]>=Disponibilidad!L$11)*(Reservas[N° DE CANCHA]=Disponibilidad!$D12)) -> 0 | M12: =1-SUMPRODUCT((Reservas[COMIENZA]<=M$11)*(Reservas[FECHA]=Disponibilidad!$C$5)*(Reservas[TERMINA]>=Disponibilidad!M$11)*(Reservas[N° DE CANCHA]=Disponibilidad!$D12)) -> 1 | ... U12: =1-SUMPRODUCT((Reservas[COMIENZA]<=U$11)*(Reservas[FECHA]=Disponibilidad!$C$5)*(Reservas[TERMINA]>=Disponibilidad!U$11)*(Reservas[N° DE CANCHA]=Disponibilidad!$D12)) -> 1
B13: Cancha L2 | C13: 8 | D13: 2 | F13: =1-SUMPRODUCT((Reservas[COMIENZA]<=F$11)*(Reservas[FECHA]=Disponibilidad!$C$5)*(Reservas[TERMINA]>=Disponibilidad!F$11)*(Reservas[N° DE CANCHA]=Disponibilidad!$D13)) -> 1 | G13: =1-SUMPRODUCT((Reservas[COMIENZA]<=G$11)*(Reservas[FECHA]=Disponibilidad!$C$5)*(Reservas[TERMINA]>=Disponibilidad!G$11)*(Reservas[N° DE CANCHA]=Disponibilidad!$D13)) -> 1 | H13: =1-SUMPRODUCT((Reservas[COMIENZA]<=H$11)*(Reservas[FECHA]=Disponibilidad!$C$5)*(Reservas[TERMINA]>=Disponibilidad!H$11)*(Reservas[N° DE CANCHA]=Disponibilidad!$D13)) -> 1 | I13: =1-SUMPRODUCT((Reservas[COMIENZA]<=I$11)*(Reservas[FECHA]=Disponibilidad!$C$5)*(Reservas[TERMINA]>=Disponibilidad!I$11)*(Reservas[N° DE CANCHA]=Disponibilidad!$D13)) -> 1 | J13: =1-SUMPRODUCT((Reservas[COMIENZA]<=J$11)*(Reservas[FECHA]=Disponibilidad!$C$5)*(Reservas[TERMINA]>=Disponibilidad!J$11)*(Reservas[N° DE CANCHA]=Disponibilidad!$D13)) -> 1 | K13: =1-SUMPRODUCT((Reservas[COMIENZA]<=K$11)*(Reservas[FECHA]=Disponibilidad!$C$5)*(Reservas[TERMINA]>=Disponibilidad!K$11)*(Reservas[N° DE CANCHA]=Disponibilidad!$D13)) -> 1 | L13: =1-SUMPRODUCT((Reservas[COMIENZA]<=L$11)*(Reservas[FECHA]=Disponibilidad!$C$5)*(Reservas[TERMINA]>=Disponibilidad!L$11)*(Reservas[N° DE CANCHA]=Disponibilidad!$D13)) -> 0 | M13: =1-SUMPRODUCT((Reservas[COMIENZA]<=M$11)*(Reservas[FECHA]=Disponibilidad!$C$5)*(Reservas[TERMINA]>=Disponibilidad!M$11)*(Reservas[N° DE CANCHA]=Disponibilidad!$D13)) -> 1 | ... U13: =1-SUMPRODUCT((Reservas[COMIENZA]<=U$11)*(Reservas[FECHA]=Disponibilidad!$C$5)*(Reservas[TERMINA]>=Disponibilidad!U$11)*(Reservas[N° DE CANCHA]=Disponibilidad!$D13)) -> 1 | X13: Disponible
B14: Cancha L3 | C14: 11 | D14: 3 | F14: =1-SUMPRODUCT((Reservas[COMIENZA]<=F$11)*(Reservas[FECHA]=Disponibilidad!$C$5)*(Reservas[TERMINA]>=Disponibilidad!F$11)*(Reservas[N° DE CANCHA]=Disponibilidad!$D14)) -> 1 | G14: =1-SUMPRODUCT((Reservas[COMIENZA]<=G$11)*(Reservas[FECHA]=Disponibilidad!$C$5)*(Reservas[TERMINA]>=Disponibilidad!G$11)*(Reservas[N° DE CANCHA]=Disponibilidad!$D14)) -> 1 | H14: =1-SUMPRODUCT((Reservas[COMIENZA]<=H$11)*(Reservas[FECHA]=Disponibilidad!$C$5)*(Reservas[TERMINA]>=Disponibilidad!H$11)*(Reservas[N° DE CANCHA]=Disponibilidad!$D14)) -> 1 | I14: =1-SUMPRODUCT((Reservas[COMIENZA]<=I$11)*(Reservas[FECHA]=Disponibilidad!$C$5)*(Reservas[TERMINA]>=Disponibilidad!I$11)*(Reservas[N° DE CANCHA]=Disponibilidad!$D14)) -> 1 | J14: =1-SUMPRODUCT((Reservas[COMIENZA]<=J$11)*(Reservas[FECHA]=Disponibilidad!$C$5)*(Reservas[TERMINA]>=Disponibilidad!J$11)*(Reservas[N° DE CANCHA]=Disponibilidad!$D14)) -> 1 | K14: =1-SUMPRODUCT((Reservas[COMIENZA]<=K$11)*(Reservas[FECHA]=Disponibilidad!$C$5)*(Reservas[TERMINA]>=Disponibilidad!K$11)*(Reservas[N° DE CANCHA]=Disponibilidad!$D14)) -> 1 | L14: =1-SUMPRODUCT((Reservas[COMIENZA]<=L$11)*(Reservas[FECHA]=Disponibilidad!$C$5)*(Reservas[TERMINA]>=Disponibilidad!L$11)*(Reservas[N° DE CANCHA]=Disponibilidad!$D14)) -> 1 | M14: =1-SUMPRODUCT((Reservas[COMIENZA]<=M$11)*(Reservas[FECHA]=Disponibilidad!$C$5)*(Reservas[TERMINA]>=Disponibilidad!M$11)*(Reservas[N° DE CANCHA]=Disponibilidad!$D14)) -> 1 | ... U14: =1-SUMPRODUCT((Reservas[COMIENZA]<=U$11)*(Reservas[FECHA]=Disponibilidad!$C$5)*(Reservas[TERMINA]>=Disponibilidad!U$11)*(Reservas[N° DE CANCHA]=Disponibilidad!$D14)) -> 1
B15: Cancha L4 | C15: 6 | D15: 4 | F15: =1-SUMPRODUCT((Reservas[COMIENZA]<=F$11)*(Reservas[FECHA]=Disponibilidad!$C$5)*(Reservas[TERMINA]>=Disponibilidad!F$11)*(Reservas[N° DE CANCHA]=Disponibilidad!$D15)) -> 1 | G15: =1-SUMPRODUCT((Reservas[COMIENZA]<=G$11)*(Reservas[FECHA]=Disponibilidad!$C$5)*(Reservas[TERMINA]>=Disponibilidad!G$11)*(Reservas[N° DE CANCHA]=Disponibilidad!$D15)) -> 1 | H15: =1-SUMPRODUCT((Reservas[COMIENZA]<=H$11)*(Reservas[FECHA]=Disponibilidad!$C$5)*(Reservas[TERMINA]>=Disponibilidad!H$11)*(Reservas[N° DE CANCHA]=Disponibilidad!$D15)) -> 1 | I15: =1-SUMPRODUCT((Reservas[COMIENZA]<=I$11)*(Reservas[FECHA]=Disponibilidad!$C$5)*(Reservas[TERMINA]>=Disponibilidad!I$11)*(Reservas[N° DE CANCHA]=Disponibilidad!$D15)) -> 1 | J15: =1-SUMPRODUCT((Reservas[COMIENZA]<=J$11)*(Reservas[FECHA]=Disponibilidad!$C$5)*(Reservas[TERMINA]>=Disponibilidad!J$11)*(Reservas[N° DE CANCHA]=Disponibilidad!$D15)) -> 1 | K15: =1-SUMPRODUCT((Reservas[COMIENZA]<=K$11)*(Reservas[FECHA]=Disponibilidad!$C$5)*(Reservas[TERMINA]>=Disponibilidad!K$11)*(Reservas[N° DE CANCHA]=Disponibilidad!$D15)) -> 1 | L15: =1-SUMPRODUCT((Reservas[COMIENZA]<=L$11)*(Reservas[FECHA]=Disponibilidad!$C$5)*(Reservas[TERMINA]>=Disponibilidad!L$11)*(Reservas[N° DE CANCHA]=Disponibilidad!$D15)) -> 1 | M15: =1-SUMPRODUCT((Reservas[COMIENZA]<=M$11)*(Reservas[FECHA]=Disponibilidad!$C$5)*(Reservas[TERMINA]>=Disponibilidad!M$11)*(Reservas[N° DE CANCHA]=Disponibilidad!$D15)) -> 1 | ... U15: =1-SUMPRODUCT((Reservas[COMIENZA]<=U$11)*(Reservas[FECHA]=Disponibilidad!$C$5)*(Reservas[TERMINA]>=Disponibilidad!U$11)*(Reservas[N° DE CANCHA]=Disponibilidad!$D15)) -> 1 | X15: No disponible
B16: Cancha L5 | C16: 7 | D16: 5 | F16: =1-SUMPRODUCT((Reservas[COMIENZA]<=F$11)*(Reservas[FECHA]=Disponibilidad!$C$5)*(Reservas[TERMINA]>=Disponibilidad!F$11)*(Reservas[N° DE CANCHA]=Disponibilidad!$D16)) -> 1 | G16: =1-SUMPRODUCT((Reservas[COMIENZA]<=G$11)*(Reservas[FECHA]=Disponibilidad!$C$5)*(Reservas[TERMINA]>=Disponibilidad!G$11)*(Reservas[N° DE CANCHA]=Disponibilidad!$D16)) -> 1 | H16: =1-SUMPRODUCT((Reservas[COMIENZA]<=H$11)*(Reservas[FECHA]=Disponibilidad!$C$5)*(Reservas[TERMINA]>=Disponibilidad!H$11)*(Reservas[N° DE CANCHA]=Disponibilidad!$D16)) -> 1 | I16: =1-SUMPRODUCT((Reservas[COMIENZA]<=I$11)*(Reservas[FECHA]=Disponibilidad!$C$5)*(Reservas[TERMINA]>=Disponibilidad!I$11)*(Reservas[N° DE CANCHA]=Disponibilidad!$D16)) -> 1 | J16: =1-SUMPRODUCT((Reservas[COMIENZA]<=J$11)*(Reservas[FECHA]=Disponibilidad!$C$5)*(Reservas[TERMINA]>=Disponibilidad!J$11)*(Reservas[N° DE CANCHA]=Disponibilidad!$D16)) -> 1 | K16: =1-SUMPRODUCT((Reservas[COMIENZA]<=K$11)*(Reservas[FECHA]=Disponibilidad!$C$5)*(Reservas[TERMINA]>=Disponibilidad!K$11)*(Reservas[N° DE CANCHA]=Disponibilidad!$D16)) -> 1 | L16: =1-SUMPRODUCT((Reservas[COMIENZA]<=L$11)*(Reservas[FECHA]=Disponibilidad!$C$5)*(Reservas[TERMINA]>=Disponibilidad!L$11)*(Reservas[N° DE CANCHA]=Disponibilidad!$D16)) -> 1 | M16: =1-SUMPRODUCT((Reservas[COMIENZA]<=M$11)*(Reservas[FECHA]=Disponibilidad!$C$5)*(Reservas[TERMINA]>=Disponibilidad!M$11)*(Reservas[N° DE CANCHA]=Disponibilidad!$D16)) -> 1 | ... U16: =1-SUMPRODUCT((Reservas[COMIENZA]<=U$11)*(Reservas[FECHA]=Disponibilidad!$C$5)*(Reservas[TERMINA]>=Disponibilidad!U$11)*(Reservas[N° DE CANCHA]=Disponibilidad!$D16)) -> 1
F17: =1-SUMPRODUCT((Reservas[COMIENZA]<=F$11)*(Reservas[FECHA]=Disponibilidad!$C$5)*(Reservas[TERMINA]>=Disponibilidad!F$11)*(Reservas[N° DE CANCHA]=Disponibilidad!$D17)) -> 1 | G17: =1-SUMPRODUCT((Reservas[COMIENZA]<=G$11)*(Reservas[FECHA]=Disponibilidad!$C$5)*(Reservas[TERMINA]>=Disponibilidad!G$11)*(Reservas[N° DE CANCHA]=Disponibilidad!$D17)) -> 1 | H17: =1-SUMPRODUCT((Reservas[COMIENZA]<=H$11)*(Reservas[FECHA]=Disponibilidad!$C$5)*(Reservas[TERMINA]>=Disponibilidad!H$11)*(Reservas[N° DE CANCHA]=Disponibilidad!$D17)) -> 1 | I17: =1-SUMPRODUCT((Reservas[COMIENZA]<=I$11)*(Reservas[FECHA]=Disponibilidad!$C$5)*(Reservas[TERMINA]>=Disponibilidad!I$11)*(Reservas[N° DE CANCHA]=Disponibilidad!$D17)) -> 1 | J17: =1-SUMPRODUCT((Reservas[COMIENZA]<=J$11)*(Reservas[FECHA]=Disponibilidad!$C$5)*(Reservas[TERMINA]>=Disponibilidad!J$11)*(Reservas[N° DE CANCHA]=Disponibilidad!$D17)) -> 1 | K17: =1-SUMPRODUCT((Reservas[COMIENZA]<=K$11)*(Reservas[FECHA]=Disponibilidad!$C$5)*(Reservas[TERMINA]>=Disponibilidad!K$11)*(Reservas[N° DE CANCHA]=Disponibilidad!$D17)) -> 1 | L17: =1-SUMPRODUCT((Reservas[COMIENZA]<=L$11)*(Reservas[FECHA]=Disponibilidad!$C$5)*(Reservas[TERMINA]>=Disponibilidad!L$11)*(Reservas[N° DE CANCHA]=Disponibilidad!$D17)) -> 1 | M17: =1-SUMPRODUCT((Reservas[COMIENZA]<=M$11)*(Reservas[FECHA]=Disponibilidad!$C$5)*(Reservas[TERMINA]>=Disponibilidad!M$11)*(Reservas[N° DE CANCHA]=Disponibilidad!$D17)) -> 1 | ... U17: =1-SUMPRODUCT((Reservas[COMIENZA]<=U$11)*(Reservas[FECHA]=Disponibilidad!$C$5)*(Reservas[TERMINA]>=Disponibilidad!U$11)*(Reservas[N° DE CANCHA]=Disponibilidad!$D17)) -> 1
F18: =1-SUMPRODUCT((Reservas[COMIENZA]<=F$11)*(Reservas[FECHA]=Disponibilidad!$C$5)*(Reservas[TERMINA]>=Disponibilidad!F$11)*(Reservas[N° DE CANCHA]=Disponibilidad!$D18)) -> 1 | G18: =1-SUMPRODUCT((Reservas[COMIENZA]<=G$11)*(Reservas[FECHA]=Disponibilidad!$C$5)*(Reservas[TERMINA]>=Disponibilidad!G$11)*(Reservas[N° DE CANCHA]=Disponibilidad!$D18)) -> 1 | H18: =1-SUMPRODUCT((Reservas[COMIENZA]<=H$11)*(Reservas[FECHA]=Disponibilidad!$C$5)*(Reservas[TERMINA]>=Disponibilidad!H$11)*(Reservas[N° DE CANCHA]=Disponibilidad!$D18)) -> 1 | I18: =1-SUMPRODUCT((Reservas[COMIENZA]<=I$11)*(Reservas[FECHA]=Disponibilidad!$C$5)*(Reservas[TERMINA]>=Disponibilidad!I$11)*(Reservas[N° DE CANCHA]=Disponibilidad!$D18)) -> 1 | J18: =1-SUMPRODUCT((Reservas[COMIENZA]<=J$11)*(Reservas[FECHA]=Disponibilidad!$C$5)*(Reservas[TERMINA]>=Disponibilidad!J$11)*(Reservas[N° DE CANCHA]=Disponibilidad!$D18)) -> 1 | K18: =1-SUMPRODUCT((Reservas[COMIENZA]<=K$11)*(Reservas[FECHA]=Disponibilidad!$C$5)*(Reservas[TERMINA]>=Disponibilidad!K$11)*(Reservas[N° DE CANCHA]=Disponibilidad!$D18)) -> 1 | L18: =1-SUMPRODUCT((Reservas[COMIENZA]<=L$11)*(Reservas[FECHA]=Disponibilidad!$C$5)*(Reservas[TERMINA]>=Disponibilidad!L$11)*(Reservas[N° DE CANCHA]=Disponibilidad!$D18)) -> 1 | M18: =1-SUMPRODUCT((Reservas[COMIENZA]<=M$11)*(Reservas[FECHA]=Disponibilidad!$C$5)*(Reservas[TERMINA]>=Disponibilidad!M$11)*(Reservas[N° DE CANCHA]=Disponibilidad!$D18)) -> 1 | ... U18: =1-SUMPRODUCT((Reservas[COMIENZA]<=U$11)*(Reservas[FECHA]=Disponibilidad!$C$5)*(Reservas[TERMINA]>=Disponibilidad!U$11)*(Reservas[N° DE CANCHA]=Disponibilidad!$D18)) -> 1
F19: =1-SUMPRODUCT((Reservas[COMIENZA]<=F$11)*(Reservas[FECHA]=Disponibilidad!$C$5)*(Reservas[TERMINA]>=Disponibilidad!F$11)*(Reservas[N° DE CANCHA]=Disponibilidad!$D19)) -> 1 | G19: =1-SUMPRODUCT((Reservas[COMIENZA]<=G$11)*(Reservas[FECHA]=Disponibilidad!$C$5)*(Reservas[TERMINA]>=Disponibilidad!G$11)*(Reservas[N° DE CANCHA]=Disponibilidad!$D19)) -> 1 | H19: =1-SUMPRODUCT((Reservas[COMIENZA]<=H$11)*(Reservas[FECHA]=Disponibilidad!$C$5)*(Reservas[TERMINA]>=Disponibilidad!H$11)*(Reservas[N° DE CANCHA]=Disponibilidad!$D19)) -> 1 | I19: =1-SUMPRODUCT((Reservas[COMIENZA]<=I$11)*(Reservas[FECHA]=Disponibilidad!$C$5)*(Reservas[TERMINA]>=Disponibilidad!I$11)*(Reservas[N° DE CANCHA]=Disponibilidad!$D19)) -> 1 | J19: =1-SUMPRODUCT((Reservas[COMIENZA]<=J$11)*(Reservas[FECHA]=Disponibilidad!$C$5)*(Reservas[TERMINA]>=Disponibilidad!J$11)*(Reservas[N° DE CANCHA]=Disponibilidad!$D19)) -> 1 | K19: =1-SUMPRODUCT((Reservas[COMIENZA]<=K$11)*(Reservas[FECHA]=Disponibilidad!$C$5)*(Reservas[TERMINA]>=Disponibilidad!K$11)*(Reservas[N° DE CANCHA]=Disponibilidad!$D19)) -> 1 | L19: =1-SUMPRODUCT((Reservas[COMIENZA]<=L$11)*(Reservas[FECHA]=Disponibilidad!$C$5)*(Reservas[TERMINA]>=Disponibilidad!L$11)*(Reservas[N° DE CANCHA]=Disponibilidad!$D19)) -> 1 | M19: =1-SUMPRODUCT((Reservas[COMIENZA]<=M$11)*(Reservas[FECHA]=Disponibilidad!$C$5)*(Reservas[TERMINA]>=Disponibilidad!M$11)*(Reservas[N° DE CANCHA]=Disponibilidad!$D19)) -> 1 | ... U19: =1-SUMPRODUCT((Reservas[COMIENZA]<=U$11)*(Reservas[FECHA]=Disponibilidad!$C$5)*(Reservas[TERMINA]>=Disponibilidad!U$11)*(Reservas[N° DE CANCHA]=Disponibilidad!$D19)) -> 1
F20: =1-SUMPRODUCT((Reservas[COMIENZA]<=F$11)*(Reservas[FECHA]=Disponibilidad!$C$5)*(Reservas[TERMINA]>=Disponibilidad!F$11)*(Reservas[N° DE CANCHA]=Disponibilidad!$D20)) -> 1 | G20: =1-SUMPRODUCT((Reservas[COMIENZA]<=G$11)*(Reservas[FECHA]=Disponibilidad!$C$5)*(Reservas[TERMINA]>=Disponibilidad!G$11)*(Reservas[N° DE CANCHA]=Disponibilidad!$D20)) -> 1 | H20: =1-SUMPRODUCT((Reservas[COMIENZA]<=H$11)*(Reservas[FECHA]=Disponibilidad!$C$5)*(Reservas[TERMINA]>=Disponibilidad!H$11)*(Reservas[N° DE CANCHA]=Disponibilidad!$D20)) -> 1 | I20: =1-SUMPRODUCT((Reservas[COMIENZA]<=I$11)*(Reservas[FECHA]=Disponibilidad!$C$5)*(Reservas[TERMINA]>=Disponibilidad!I$11)*(Reservas[N° DE CANCHA]=Disponibilidad!$D20)) -> 1 | J20: =1-SUMPRODUCT((Reservas[COMIENZA]<=J$11)*(Reservas[FECHA]=Disponibilidad!$C$5)*(Reservas[TERMINA]>=Disponibilidad!J$11)*(Reservas[N° DE CANCHA]=Disponibilidad!$D20)) -> 1 | K20: =1-SUMPRODUCT((Reservas[COMIENZA]<=K$11)*(Reservas[FECHA]=Disponibilidad!$C$5)*(Reservas[TERMINA]>=Disponibilidad!K$11)*(Reservas[N° DE CANCHA]=Disponibilidad!$D20)) -> 1 | L20: =1-SUMPRODUCT((Reservas[COMIENZA]<=L$11)*(Reservas[FECHA]=Disponibilidad!$C$5)*(Reservas[TERMINA]>=Disponibilidad!L$11)*(Reservas[N° DE CANCHA]=Disponibilidad!$D20)) -> 1 | M20: =1-SUMPRODUCT((Reservas[COMIENZA]<=M$11)*(Reservas[FECHA]=Disponibilidad!$C$5)*(Reservas[TERMINA]>=Disponibilidad!M$11)*(Reservas[N° DE CANCHA]=Disponibilidad!$D20)) -> 1 | ... U20: =1-SUMPRODUCT((Reservas[COMIENZA]<=U$11)*(Reservas[FECHA]=Disponibilidad!$C$5)*(Reservas[TERMINA]>=Disponibilidad!U$11)*(Reservas[N° DE CANCHA]=Disponibilidad!$D20)) -> 1
F21: =1-SUMPRODUCT((Reservas[COMIENZA]<=F$11)*(Reservas[FECHA]=Disponibilidad!$C$5)*(Reservas[TERMINA]>=Disponibilidad!F$11)*(Reservas[N° DE CANCHA]=Disponibilidad!$D21)) -> 1 | G21: =1-SUMPRODUCT((Reservas[COMIENZA]<=G$11)*(Reservas[FECHA]=Disponibilidad!$C$5)*(Reservas[TERMINA]>=Disponibilidad!G$11)*(Reservas[N° DE CANCHA]=Disponibilidad!$D21)) -> 1 | H21: =1-SUMPRODUCT((Reservas[COMIENZA]<=H$11)*(Reservas[FECHA]=Disponibilidad!$C$5)*(Reservas[TERMINA]>=Disponibilidad!H$11)*(Reservas[N° DE CANCHA]=Disponibilidad!$D21)) -> 1 | I21: =1-SUMPRODUCT((Reservas[COMIENZA]<=I$11)*(Reservas[FECHA]=Disponibilidad!$C$5)*(Reservas[TERMINA]>=Disponibilidad!I$11)*(Reservas[N° DE CANCHA]=Disponibilidad!$D21)) -> 1 | J21: =1-SUMPRODUCT((Reservas[COMIENZA]<=J$11)*(Reservas[FECHA]=Disponibilidad!$C$5)*(Reservas[TERMINA]>=Disponibilidad!J$11)*(Reservas[N° DE CANCHA]=Disponibilidad!$D21)) -> 1 | K21: =1-SUMPRODUCT((Reservas[COMIENZA]<=K$11)*(Reservas[FECHA]=Disponibilidad!$C$5)*(Reservas[TERMINA]>=Disponibilidad!K$11)*(Reservas[N° DE CANCHA]=Disponibilidad!$D21)) -> 1 | L21: =1-SUMPRODUCT((Reservas[COMIENZA]<=L$11)*(Reservas[FECHA]=Disponibilidad!$C$5)*(Reservas[TERMINA]>=Disponibilidad!L$11)*(Reservas[N° DE CANCHA]=Disponibilidad!$D21)) -> 1 | M21: =1-SUMPRODUCT((Reservas[COMIENZA]<=M$11)*(Reservas[FECHA]=Disponibilidad!$C$5)*(Reservas[TERMINA]>=Disponibilidad!M$11)*(Reservas[N° DE CANCHA]=Disponibilidad!$D21)) -> 1 | ... U21: =1-SUMPRODUCT((Reservas[COMIENZA]<=U$11)*(Reservas[FECHA]=Disponibilidad!$C$5)*(Reservas[TERMINA]>=Disponibilidad!U$11)*(Reservas[N° DE CANCHA]=Disponibilidad!$D21)) -> 1
F22: =1-SUMPRODUCT((Reservas[COMIENZA]<=F$11)*(Reservas[FECHA]=Disponibilidad!$C$5)*(Reservas[TERMINA]>=Disponibilidad!F$11)*(Reservas[N° DE CANCHA]=Disponibilidad!$D22)) -> 1 | G22: =1-SUMPRODUCT((Reservas[COMIENZA]<=G$11)*(Reservas[FECHA]=Disponibilidad!$C$5)*(Reservas[TERMINA]>=Disponibilidad!G$11)*(Reservas[N° DE CANCHA]=Disponibilidad!$D22)) -> 1 | H22: =1-SUMPRODUCT((Reservas[COMIENZA]<=H$11)*(Reservas[FECHA]=Disponibilidad!$C$5)*(Reservas[TERMINA]>=Disponibilidad!H$11)*(Reservas[N° DE CANCHA]=Disponibilidad!$D22)) -> 1 | I22: =1-SUMPRODUCT((Reservas[COMIENZA]<=I$11)*(Reservas[FECHA]=Disponibilidad!$C$5)*(Reservas[TERMINA]>=Disponibilidad!I$11)*(Reservas[N° DE CANCHA]=Disponibilidad!$D22)) -> 1 | J22: =1-SUMPRODUCT((Reservas[COMIENZA]<=J$11)*(Reservas[FECHA]=Disponibilidad!$C$5)*(Reservas[TERMINA]>=Disponibilidad!J$11)*(Reservas[N° DE CANCHA]=Disponibilidad!$D22)) -> 1 | K22: =1-SUMPRODUCT((Reservas[COMIENZA]<=K$11)*(Reservas[FECHA]=Disponibilidad!$C$5)*(Reservas[TERMINA]>=Disponibilidad!K$11)*(Reservas[N° DE CANCHA]=Disponibilidad!$D22)) -> 1 | L22: =1-SUMPRODUCT((Reservas[COMIENZA]<=L$11)*(Reservas[FECHA]=Disponibilidad!$C$5)*(Reservas[TERMINA]>=Disponibilidad!L$11)*(Reservas[N° DE CANCHA]=Disponibilidad!$D22)) -> 1 | M22: =1-SUMPRODUCT((Reservas[COMIENZA]<=M$11)*(Reservas[FECHA]=Disponibilidad!$C$5)*(Reservas[TERMINA]>=Disponibilidad!M$11)*(Reservas[N° DE CANCHA]=Disponibilidad!$D22)) -> 1 | ... U22: =1-SUMPRODUCT((Reservas[COMIENZA]<=U$11)*(Reservas[FECHA]=Disponibilidad!$C$5)*(Reservas[TERMINA]>=Disponibilidad!U$11)*(Reservas[N° DE CANCHA]=Disponibilidad!$D22)) -> 1
F23: =1-SUMPRODUCT((Reservas[COMIENZA]<=F$11)*(Reservas[FECHA]=Disponibilidad!$C$5)*(Reservas[TERMINA]>=Disponibilidad!F$11)*(Reservas[N° DE CANCHA]=Disponibilidad!$D23)) -> 1 | G23: =1-SUMPRODUCT((Reservas[COMIENZA]<=G$11)*(Reservas[FECHA]=Disponibilidad!$C$5)*(Reservas[TERMINA]>=Disponibilidad!G$11)*(Reservas[N° DE CANCHA]=Disponibilidad!$D23)) -> 1 | H23: =1-SUMPRODUCT((Reservas[COMIENZA]<=H$11)*(Reservas[FECHA]=Disponibilidad!$C$5)*(Reservas[TERMINA]>=Disponibilidad!H$11)*(Reservas[N° DE CANCHA]=Disponibilidad!$D23)) -> 1 | I23: =1-SUMPRODUCT((Reservas[COMIENZA]<=I$11)*(Reservas[FECHA]=Disponibilidad!$C$5)*(Reservas[TERMINA]>=Disponibilidad!I$11)*(Reservas[N° DE CANCHA]=Disponibilidad!$D23)) -> 1 | J23: =1-SUMPRODUCT((Reservas[COMIENZA]<=J$11)*(Reservas[FECHA]=Disponibilidad!$C$5)*(Reservas[TERMINA]>=Disponibilidad!J$11)*(Reservas[N° DE CANCHA]=Disponibilidad!$D23)) -> 1 | K23: =1-SUMPRODUCT((Reservas[COMIENZA]<=K$11)*(Reservas[FECHA]=Disponibilidad!$C$5)*(Reservas[TERMINA]>=Disponibilidad!K$11)*(Reservas[N° DE CANCHA]=Disponibilidad!$D23)) -> 1 | L23: =1-SUMPRODUCT((Reservas[COMIENZA]<=L$11)*(Reservas[FECHA]=Disponibilidad!$C$5)*(Reservas[TERMINA]>=Disponibilidad!L$11)*(Reservas[N° DE CANCHA]=Disponibilidad!$D23)) -> 1 | M23: =1-SUMPRODUCT((Reservas[COMIENZA]<=M$11)*(Reservas[FECHA]=Disponibilidad!$C$5)*(Reservas[TERMINA]>=Disponibilidad!M$11)*(Reservas[N° DE CANCHA]=Disponibilidad!$D23)) -> 1 | ... U23: =1-SUMPRODUCT((Reservas[COMIENZA]<=U$11)*(Reservas[FECHA]=Disponibilidad!$C$5)*(Reservas[TERMINA]>=Disponibilidad!U$11)*(Reservas[N° DE CANCHA]=Disponibilidad!$D23)) -> 1
F24: =1-SUMPRODUCT((Reservas[COMIENZA]<=F$11)*(Reservas[FECHA]=Disponibilidad!$C$5)*(Reservas[TERMINA]>=Disponibilidad!F$11)*(Reservas[N° DE CANCHA]=Disponibilidad!$D24)) -> 1 | G24: =1-SUMPRODUCT((Reservas[COMIENZA]<=G$11)*(Reservas[FECHA]=Disponibilidad!$C$5)*(Reservas[TERMINA]>=Disponibilidad!G$11)*(Reservas[N° DE CANCHA]=Disponibilidad!$D24)) -> 1 | H24: =1-SUMPRODUCT((Reservas[COMIENZA]<=H$11)*(Reservas[FECHA]=Disponibilidad!$C$5)*(Reservas[TERMINA]>=Disponibilidad!H$11)*(Reservas[N° DE CANCHA]=Disponibilidad!$D24)) -> 1 | I24: =1-SUMPRODUCT((Reservas[COMIENZA]<=I$11)*(Reservas[FECHA]=Disponibilidad!$C$5)*(Reservas[TERMINA]>=Disponibilidad!I$11)*(Reservas[N° DE CANCHA]=Disponibilidad!$D24)) -> 1 | J24: =1-SUMPRODUCT((Reservas[COMIENZA]<=J$11)*(Reservas[FECHA]=Disponibilidad!$C$5)*(Reservas[TERMINA]>=Disponibilidad!J$11)*(Reservas[N° DE CANCHA]=Disponibilidad!$D24)) -> 1 | K24: =1-SUMPRODUCT((Reservas[COMIENZA]<=K$11)*(Reservas[FECHA]=Disponibilidad!$C$5)*(Reservas[TERMINA]>=Disponibilidad!K$11)*(Reservas[N° DE CANCHA]=Disponibilidad!$D24)) -> 1 | L24: =1-SUMPRODUCT((Reservas[COMIENZA]<=L$11)*(Reservas[FECHA]=Disponibilidad!$C$5)*(Reservas[TERMINA]>=Disponibilidad!L$11)*(Reservas[N° DE CANCHA]=Disponibilidad!$D24)) -> 1 | M24: =1-SUMPRODUCT((Reservas[COMIENZA]<=M$11)*(Reservas[FECHA]=Disponibilidad!$C$5)*(Reservas[TERMINA]>=Disponibilidad!M$11)*(Reservas[N° DE CANCHA]=Disponibilidad!$D24)) -> 1 | ... U24: =1-SUMPRODUCT((Reservas[COMIENZA]<=U$11)*(Reservas[FECHA]=Disponibilidad!$C$5)*(Reservas[TERMINA]>=Disponibilidad!U$11)*(Reservas[N° DE CANCHA]=Disponibilidad!$D24)) -> 1
F25: =1-SUMPRODUCT((Reservas[COMIENZA]<=F$11)*(Reservas[FECHA]=Disponibilidad!$C$5)*(Reservas[TERMINA]>=Disponibilidad!F$11)*(Reservas[N° DE CANCHA]=Disponibilidad!$D25)) -> 1 | G25: =1-SUMPRODUCT((Reservas[COMIENZA]<=G$11)*(Reservas[FECHA]=Disponibilidad!$C$5)*(Reservas[TERMINA]>=Disponibilidad!G$11)*(Reservas[N° DE CANCHA]=Disponibilidad!$D25)) -> 1 | H25: =1-SUMPRODUCT((Reservas[COMIENZA]<=H$11)*(Reservas[FECHA]=Disponibilidad!$C$5)*(Reservas[TERMINA]>=Disponibilidad!H$11)*(Reservas[N° DE CANCHA]=Disponibilidad!$D25)) -> 1 | I25: =1-SUMPRODUCT((Reservas[COMIENZA]<=I$11)*(Reservas[FECHA]=Disponibilidad!$C$5)*(Reservas[TERMINA]>=Disponibilidad!I$11)*(Reservas[N° DE CANCHA]=Disponibilidad!$D25)) -> 1 | J25: =1-SUMPRODUCT((Reservas[COMIENZA]<=J$11)*(Reservas[FECHA]=Disponibilidad!$C$5)*(Reservas[TERMINA]>=Disponibilidad!J$11)*(Reservas[N° DE CANCHA]=Disponibilidad!$D25)) -> 1 | K25: =1-SUMPRODUCT((Reservas[COMIENZA]<=K$11)*(Reservas[FECHA]=Disponibilidad!$C$5)*(Reservas[TERMINA]>=Disponibilidad!K$11)*(Reservas[N° DE CANCHA]=Disponibilidad!$D25)) -> 1 | L25: =1-SUMPRODUCT((Reservas[COMIENZA]<=L$11)*(Reservas[FECHA]=Disponibilidad!$C$5)*(Reservas[TERMINA]>=Disponibilidad!L$11)*(Reservas[N° DE CANCHA]=Disponibilidad!$D25)) -> 1 | M25: =1-SUMPRODUCT((Reservas[COMIENZA]<=M$11)*(Reservas[FECHA]=Disponibilidad!$C$5)*(Reservas[TERMINA]>=Disponibilidad!M$11)*(Reservas[N° DE CANCHA]=Disponibilidad!$D25)) -> 1 | ... U25: =1-SUMPRODUCT((Reservas[COMIENZA]<=U$11)*(Reservas[FECHA]=Disponibilidad!$C$5)*(Reservas[TERMINA]>=Disponibilidad!U$11)*(Reservas[N° DE CANCHA]=Disponibilidad!$D25)) -> 1
F26: =1-SUMPRODUCT((Reservas[COMIENZA]<=F$11)*(Reservas[FECHA]=Disponibilidad!$C$5)*(Reservas[TERMINA]>=Disponibilidad!F$11)*(Reservas[N° DE CANCHA]=Disponibilidad!$D26)) -> 1 | G26: =1-SUMPRODUCT((Reservas[COMIENZA]<=G$11)*(Reservas[FECHA]=Disponibilidad!$C$5)*(Reservas[TERMINA]>=Disponibilidad!G$11)*(Reservas[N° DE CANCHA]=Disponibilidad!$D26)) -> 1 | H26: =1-SUMPRODUCT((Reservas[COMIENZA]<=H$11)*(Reservas[FECHA]=Disponibilidad!$C$5)*(Reservas[TERMINA]>=Disponibilidad!H$11)*(Reservas[N° DE CANCHA]=Disponibilidad!$D26)) -> 1 | I26: =1-SUMPRODUCT((Reservas[COMIENZA]<=I$11)*(Reservas[FECHA]=Disponibilidad!$C$5)*(Reservas[TERMINA]>=Disponibilidad!I$11)*(Reservas[N° DE CANCHA]=Disponibilidad!$D26)) -> 1 | J26: =1-SUMPRODUCT((Reservas[COMIENZA]<=J$11)*(Reservas[FECHA]=Disponibilidad!$C$5)*(Reservas[TERMINA]>=Disponibilidad!J$11)*(Reservas[N° DE CANCHA]=Disponibilidad!$D26)) -> 1 | K26: =1-SUMPRODUCT((Reservas[COMIENZA]<=K$11)*(Reservas[FECHA]=Disponibilidad!$C$5)*(Reservas[TERMINA]>=Disponibilidad!K$11)*(Reservas[N° DE CANCHA]=Disponibilidad!$D26)) -> 1 | L26: =1-SUMPRODUCT((Reservas[COMIENZA]<=L$11)*(Reservas[FECHA]=Disponibilidad!$C$5)*(Reservas[TERMINA]>=Disponibilidad!L$11)*(Reservas[N° DE CANCHA]=Disponibilidad!$D26)) -> 1 | M26: =1-SUMPRODUCT((Reservas[COMIENZA]<=M$11)*(Reservas[FECHA]=Disponibilidad!$C$5)*(Reservas[TERMINA]>=Disponibilidad!M$11)*(Reservas[N° DE CANCHA]=Disponibilidad!$D26)) -> 1 | ... U26: =1-SUMPRODUCT((Reservas[COMIENZA]<=U$11)*(Reservas[FECHA]=Disponibilidad!$C$5)*(Reservas[TERMINA]>=Disponibilidad!U$11)*(Reservas[N° DE CANCHA]=Disponibilidad!$D26)) -> 1
F27: =1-SUMPRODUCT((Reservas[COMIENZA]<=F$11)*(Reservas[FECHA]=Disponibilidad!$C$5)*(Reservas[TERMINA]>=Disponibilidad!F$11)*(Reservas[N° DE CANCHA]=Disponibilidad!$D27)) -> 1 | G27: =1-SUMPRODUCT((Reservas[COMIENZA]<=G$11)*(Reservas[FECHA]=Disponibilidad!$C$5)*(Reservas[TERMINA]>=Disponibilidad!G$11)*(Reservas[N° DE CANCHA]=Disponibilidad!$D27)) -> 1 | H27: =1-SUMPRODUCT((Reservas[COMIENZA]<=H$11)*(Reservas[FECHA]=Disponibilidad!$C$5)*(Reservas[TERMINA]>=Disponibilidad!H$11)*(Reservas[N° DE CANCHA]=Disponibilidad!$D27)) -> 1 | I27: =1-SUMPRODUCT((Reservas[COMIENZA]<=I$11)*(Reservas[FECHA]=Disponibilidad!$C$5)*(Reservas[TERMINA]>=Disponibilidad!I$11)*(Reservas[N° DE CANCHA]=Disponibilidad!$D27)) -> 1 | J27: =1-SUMPRODUCT((Reservas[COMIENZA]<=J$11)*(Reservas[FECHA]=Disponibilidad!$C$5)*(Reservas[TERMINA]>=Disponibilidad!J$11)*(Reservas[N° DE CANCHA]=Disponibilidad!$D27)) -> 1 | K27: =1-SUMPRODUCT((Reservas[COMIENZA]<=K$11)*(Reservas[FECHA]=Disponibilidad!$C$5)*(Reservas[TERMINA]>=Disponibilidad!K$11)*(Reservas[N° DE CANCHA]=Disponibilidad!$D27)) -> 1 | L27: =1-SUMPRODUCT((Reservas[COMIENZA]<=L$11)*(Reservas[FECHA]=Disponibilidad!$C$5)*(Reservas[TERMINA]>=Disponibilidad!L$11)*(Reservas[N° DE CANCHA]=Disponibilidad!$D27)) -> 1 | M27: =1-SUMPRODUCT((Reservas[COMIENZA]<=M$11)*(Reservas[FECHA]=Disponibilidad!$C$5)*(Reservas[TERMINA]>=Disponibilidad!M$11)*(Reservas[N° DE CANCHA]=Disponibilidad!$D27)) -> 1 | ... U27: =1-SUMPRODUCT((Reservas[COMIENZA]<=U$11)*(Reservas[FECHA]=Disponibilidad!$C$5)*(Reservas[TERMINA]>=Disponibilidad!U$11)*(Reservas[N° DE CANCHA]=Disponibilidad!$D27)) -> 1
F28: =1-SUMPRODUCT((Reservas[COMIENZA]<=F$11)*(Reservas[FECHA]=Disponibilidad!$C$5)*(Reservas[TERMINA]>=Disponibilidad!F$11)*(Reservas[N° DE CANCHA]=Disponibilidad!$D28)) -> 1 | G28: =1-SUMPRODUCT((Reservas[COMIENZA]<=G$11)*(Reservas[FECHA]=Disponibilidad!$C$5)*(Reservas[TERMINA]>=Disponibilidad!G$11)*(Reservas[N° DE CANCHA]=Disponibilidad!$D28)) -> 1 | H28: =1-SUMPRODUCT((Reservas[COMIENZA]<=H$11)*(Reservas[FECHA]=Disponibilidad!$C$5)*(Reservas[TERMINA]>=Disponibilidad!H$11)*(Reservas[N° DE CANCHA]=Disponibilidad!$D28)) -> 1 | I28: =1-SUMPRODUCT((Reservas[COMIENZA]<=I$11)*(Reservas[FECHA]=Disponibilidad!$C$5)*(Reservas[TERMINA]>=Disponibilidad!I$11)*(Reservas[N° DE CANCHA]=Disponibilidad!$D28)) -> 1 | J28: =1-SUMPRODUCT((Reservas[COMIENZA]<=J$11)*(Reservas[FECHA]=Disponibilidad!$C$5)*(Reservas[TERMINA]>=Disponibilidad!J$11)*(Reservas[N° DE CANCHA]=Disponibilidad!$D28)) -> 1 | K28: =1-SUMPRODUCT((Reservas[COMIENZA]<=K$11)*(Reservas[FECHA]=Disponibilidad!$C$5)*(Reservas[TERMINA]>=Disponibilidad!K$11)*(Reservas[N° DE CANCHA]=Disponibilidad!$D28)) -> 1 | L28: =1-SUMPRODUCT((Reservas[COMIENZA]<=L$11)*(Reservas[FECHA]=Disponibilidad!$C$5)*(Reservas[TERMINA]>=Disponibilidad!L$11)*(Reservas[N° DE CANCHA]=Disponibilidad!$D28)) -> 1 | M28: =1-SUMPRODUCT((Reservas[COMIENZA]<=M$11)*(Reservas[FECHA]=Disponibilidad!$C$5)*(Reservas[TERMINA]>=Disponibilidad!M$11)*(Reservas[N° DE CANCHA]=Disponibilidad!$D28)) -> 1 | ... U28: =1-SUMPRODUCT((Reservas[COMIENZA]<=U$11)*(Reservas[FECHA]=Disponibilidad!$C$5)*(Reservas[TERMINA]>=Disponibilidad!U$11)*(Reservas[N° DE CANCHA]=Disponibilidad!$D28)) -> 1
... F46: =1-SUMPRODUCT((Reservas[COMIENZA]<=F$11)*(Reservas[FECHA]=Disponibilidad!$C$5)*(Reservas[TERMINA]>=Disponibilidad!F$11)*(Reservas[N° DE CANCHA]=Disponibilidad!$D46)) -> 1 | G46: =1-SUMPRODUCT((Reservas[COMIENZA]<=G$11)*(Reservas[FECHA]=Disponibilidad!$C$5)*(Reservas[TERMINA]>=Disponibilidad!G$11)*(Reservas[N° DE CANCHA]=Disponibilidad!$D46)) -> 1 | H46: =1-SUMPRODUCT((Reservas[COMIENZA]<=H$11)*(Reservas[FECHA]=Disponibilidad!$C$5)*(Reservas[TERMINA]>=Disponibilidad!H$11)*(Reservas[N° DE CANCHA]=Disponibilidad!$D46)) -> 1 | I46: =1-SUMPRODUCT((Reservas[COMIENZA]<=I$11)*(Reservas[FECHA]=Disponibilidad!$C$5)*(Reservas[TERMINA]>=Disponibilidad!I$11)*(Reservas[N° DE CANCHA]=Disponibilidad!$D46)) -> 1 | J46: =1-SUMPRODUCT((Reservas[COMIENZA]<=J$11)*(Reservas[FECHA]=Disponibilidad!$C$5)*(Reservas[TERMINA]>=Disponibilidad!J$11)*(Reservas[N° DE CANCHA]=Disponibilidad!$D46)) -> 1 | K46: =1-SUMPRODUCT((Reservas[COMIENZA]<=K$11)*(Reservas[FECHA]=Disponibilidad!$C$5)*(Reservas[TERMINA]>=Disponibilidad!K$11)*(Reservas[N° DE CANCHA]=Disponibilidad!$D46)) -> 1 | L46: =1-SUMPRODUCT((Reservas[COMIENZA]<=L$11)*(Reservas[FECHA]=Disponibilidad!$C$5)*(Reservas[TERMINA]>=Disponibilidad!L$11)*(Reservas[N° DE CANCHA]=Disponibilidad!$D46)) -> 1 | M46: =1-SUMPRODUCT((Reservas[COMIENZA]<=M$11)*(Reservas[FECHA]=Disponibilidad!$C$5)*(Reservas[TERMINA]>=Disponibilidad!M$11)*(Reservas[N° DE CANCHA]=Disponibilidad!$D46)) -> 1 | ... U46: =1-SUMPRODUCT((Reservas[COMIENZA]<=U$11)*(Reservas[FECHA]=Disponibilidad!$C$5)*(Reservas[TERMINA]>=Disponibilidad!U$11)*(Reservas[N° DE CANCHA]=Disponibilidad!$D46)) -> 1
